BEGIN:VCALENDAR
PRODID:-//Bizzabo//EN
VERSION:2.0
BEGIN:VEVENT
UID:event-669707
ORGANIZER;CN="Business of Luxury Summit – Asia Edition":mailto:ftlive@ft.com
DTSTAMP:20260422T151246Z
DTSTART:20251020T100000Z
DTEND:20251021T100000Z
SUMMARY:Business of Luxury Summit – Asia Edition
DESCRIPTION:In October 2025, Nikkei and the Financial Times will celebra
 te a successful ten-year partnership by hosting the Asian ed
 ition of the Business of Luxury Summit in Hong Kong. This la
 ndmark event offers a unique platform for Asian luxury leade
 rs to engage with investors, brand executives, entrepreneurs
  and industry professionals, to explore future trends and le
 arn how to create further growth opportunities across the re
 gion. \n\nhttps://luxuryasia2025.live.ft.com/agenda
LOCATION:Four Seasons Hotel Hong Kong, Finance Street, Central, Hong Kong
END:VEVENT
END:VCALENDAR